BEGIN:VCALENDAR
VERSION:2.0
PRODID:-//Tukios.com/
BEGIN:VEVENT
UID:40b4c481-cf20-42e9-a4b8-95ccb791892e@www.dahnandwoodhouse.com
DTSTAMP:20260423T033042Z
DTSTART:20260428T000000Z
DTEND:20260428T010000Z
SUMMARY:Rosary
DESCRIPTION:
URL:https://www.dahnandwoodhouse.com/obituaries/olga-nava-haro
LOCATION: 705 N Carroll St  Carroll IA 51401
GEO:42.0678587;-94.8699097
END:VEVENT
END:VCALENDAR