BEGIN:VCALENDAR
VERSION:2.0
PRODID:-//Tukios.com/
BEGIN:VEVENT
UID:1532da38-3070-4123-b279-7c89170351fd@www.dahnandwoodhouse.com
DTSTAMP:20260423T032813Z
DTSTART:20260428T150000Z
DTEND:20260428T154500Z
SUMMARY:Visitation Prior to the Mass
DESCRIPTION:
URL:https://www.dahnandwoodhouse.com/obituaries/olga-nava-haro
LOCATION: 421 Bluff St E  Carroll IA 51401
GEO:42.0586464;-94.8649477
END:VEVENT
END:VCALENDAR