BEGIN:VCALENDAR
VERSION:2.0
PRODID:-//Tukios.com/
BEGIN:VEVENT
UID:597dffe3-4421-4aa6-9128-82dee98b48ce@www.dahnandwoodhouse.com
DTSTAMP:20260423T033010Z
DTSTART:20260428T160000Z
DTEND:20260428T170000Z
SUMMARY:Mass
DESCRIPTION:
URL:https://www.dahnandwoodhouse.com/obituaries/olga-nava-haro
LOCATION:Holy Spirit Catholic Church – St. John Paul II Parish 1607 
	North West Street  Carroll IA 51401
GEO:42.0759604;-94.8696646
END:VEVENT
END:VCALENDAR