BEGIN:VCALENDAR
VERSION:2.0
PRODID:-//Tukios.com/
BEGIN:VEVENT
UID:9e94a5f3-025c-42aa-91d3-e6d1d832c8a1@www.dahnandwoodhouse.com
DTSTAMP:20260423T032813Z
DTSTART:20260427T220000Z
DTEND:20260428T000000Z
SUMMARY:Visitation
DESCRIPTION:
URL:https://www.dahnandwoodhouse.com/obituaries/olga-nava-haro
LOCATION: 705 N Carroll St  Carroll IA 51401
GEO:42.0678587;-94.8699097
END:VEVENT
END:VCALENDAR